BEGIN:VCALENDAR
VERSION:2.0
PRODID:-//Kullafloristen - ECPv6.15.20//NONSGML v1.0//EN
CALSCALE:GREGORIAN
METHOD:PUBLISH
X-WR-CALNAME:Kullafloristen
X-ORIGINAL-URL:https://kullafloristen.se
X-WR-CALDESC:Händelser för Kullafloristen
REFRESH-INTERVAL;VALUE=DURATION:PT1H
X-Robots-Tag:noindex
X-PUBLISHED-TTL:PT1H
BEGIN:VTIMEZONE
TZID:Europe/Stockholm
BEGIN:DAYLIGHT
TZOFFSETFROM:+0100
TZOFFSETTO:+0200
TZNAME:CEST
DTSTART:20230326T010000
END:DAYLIGHT
BEGIN:STANDARD
TZOFFSETFROM:+0200
TZOFFSETTO:+0100
TZNAME:CET
DTSTART:20231029T010000
END:STANDARD
BEGIN:DAYLIGHT
TZOFFSETFROM:+0100
TZOFFSETTO:+0200
TZNAME:CEST
DTSTART:20240331T010000
END:DAYLIGHT
BEGIN:STANDARD
TZOFFSETFROM:+0200
TZOFFSETTO:+0100
TZNAME:CET
DTSTART:20241027T010000
END:STANDARD
BEGIN:DAYLIGHT
TZOFFSETFROM:+0100
TZOFFSETTO:+0200
TZNAME:CEST
DTSTART:20250330T010000
END:DAYLIGHT
BEGIN:STANDARD
TZOFFSETFROM:+0200
TZOFFSETTO:+0100
TZNAME:CET
DTSTART:20251026T010000
END:STANDARD
END:VTIMEZONE
BEGIN:VEVENT
DTSTART;TZID=Europe/Stockholm:20240827T163000
DTEND;TZID=Europe/Stockholm:20240827T193000
DTSTAMP:20260421T134026
CREATED:20220502T182737Z
LAST-MODIFIED:20240506T075046Z
UID:2319-1724776200-1724787000@kullafloristen.se
SUMMARY:Bubbel och blommor på Sofiero slott
DESCRIPTION:I Sofieros vackra miljö blir alla våra sinnen tillfredsställda. Under Kullafloristens inspirerande blomsterkurser får du som deltagare lära dig massor av härliga tekniker samtidigt som du får en avkopplande och kreativ stund i slottsparkens härliga omgivningar. Platserna är begränsade så boka din plats redan idag. \nBubbel och blommor \nBygg en bukett med doft\, struktur och textur under tiden du njuter av porlande bubblor i ditt glas. Kullafloristen bjuder på en inspirerande föreläsning om hur du arrangerar drömmiga buketter. Efter föreläsningen är det din tur att dofta\, känna och planera din bukett- därefter kan skapandet börja. \n  \nKursen kostar 1495kr och bokas direkt hos Sofiero HÄR Allt material ingår i priset.
URL:https://kullafloristen.se/event/blomsterkurs/
LOCATION:Sofiero slott\, Sofierovägen 131\, Helsingborg\, Sverige
ATTACH;FMTTYPE=image/jpeg:https://media.kullafloristen.se/2022/02/Blomsterprenumeration-scaled.jpg
END:VEVENT
END:VCALENDAR